BEGIN:VCALENDAR
VERSION:2.0
CALSCALE:GREGORIAN
METHOD:PUBLISH
X-WR-TIMEZONE:Europe/Madrid
BEGIN:VEVENT
SUMMARY:Arts en Família de 18 a 36 mesos: 25 d'abril
DTSTART:20260425T113000
DTEND:20260425T121500
DTSTAMP:20260420T161013Z
UID:https://inscripcions.tarragona.cat/arts-en-familia-de-18-a-36-mesos-25
 -dabril
CATEGORIES:
DESCRIPTION:https://inscripcions.tarragona.cat/arts-en-familia-de-18-a-36-
 mesos-25-dabril
GEO:41.115366;1.2076558
LOCATION:Sala d'actes de l'Institut Municipal d’Educació Av. Ramon i Ca
 jal\, 70\, 43005\, Tarragona\, España
ORGANIZER;CN="Activitats Imet":mailto:imet.activitats@tarragona.cat
URL:https://inscripcions.tarragona.cat/arts-en-familia-de-18-a-36-mesos-25
 -dabril
END:VEVENT
END:VCALENDAR
