BEGIN:VCALENDAR
VERSION:2.0
CALSCALE:GREGORIAN
METHOD:PUBLISH
X-WR-TIMEZONE:Europe/Madrid
BEGIN:VEVENT
SUMMARY:Arte en Família de 0 a 18 meses : 25 de abril
DTSTART:20260425T103000
DTEND:20260425T111500
DTSTAMP:20260420T143621Z
UID:https://inscripcions.tarragona.cat/arts-en-familia-de-0-a-18-mesos-25-
 dabril
CATEGORIES:
DESCRIPTION:https://inscripcions.tarragona.cat/arts-en-familia-de-0-a-18-m
 esos-25-dabril
GEO:41.115366;1.2076558
LOCATION:Sala d'actes de l'Institut Municipal d’Educació Av. Ramon i Ca
 jal\, 70\, 43005\, Tarragona\, España
ORGANIZER;CN="Activitats Imet":mailto:imet.activitats@tarragona.cat
URL:https://inscripcions.tarragona.cat/arts-en-familia-de-0-a-18-mesos-25-
 dabril
END:VEVENT
END:VCALENDAR
